BEGIN:VCALENDAR
VERSION:2.0
PRODID:-//CONNECT2SMALLPORTS - ECPv6.0.6.2//NONSGML v1.0//EN
CALSCALE:GREGORIAN
METHOD:PUBLISH
X-ORIGINAL-URL:https://connect2smallports.eu
X-WR-CALDESC:Events for CONNECT2SMALLPORTS
REFRESH-INTERVAL;VALUE=DURATION:PT1H
X-Robots-Tag:noindex
X-PUBLISHED-TTL:PT1H
BEGIN:VTIMEZONE
TZID:Europe/Berlin
BEGIN:DAYLIGHT
TZOFFSETFROM:+0100
TZOFFSETTO:+0200
TZNAME:CEST
DTSTART:20210328T010000
END:DAYLIGHT
BEGIN:STANDARD
TZOFFSETFROM:+0200
TZOFFSETTO:+0100
TZNAME:CET
DTSTART:20211031T010000
END:STANDARD
END:VTIMEZONE
BEGIN:VEVENT
DTSTART;VALUE=DATE:20211020
DTEND;VALUE=DATE:20211023
DTSTAMP:20260419T165958
CREATED:20210519T133224Z
LAST-MODIFIED:20210519T133224Z
UID:2350-1634688000-1634947199@connect2smallports.eu
SUMMARY:GreenPort Cruise & Congress
DESCRIPTION:The 16th edition of GreenPort Cruise & Congress will be hosted by the Port of Piraeus and will take place in Piraeus\, Greece from 20-22 October 2021. \nThe conference provides over 180 decision makers from the port community – port authorities\, terminal operators\, shipping lines\, logistics operators – with a meeting place to both learn about and discuss the latest in sustainable development and environmental practice to enable them to effectively implement the changes needed to reduce their carbon footprint and to be more sensitive to environmental considerations. \nGreenPort Cruise & Congress 2021 will cover a range of themes including the EU’s new climate plan\, financial and technical challenges to onshore power supply\, ports getting ahead for new fuels\, collaborative community projects\, sustainable transport and logistics in the hinterland connections of the port\, eco-cruise ships and sustainable cruise initiatives in Europe. \nThe 2021 hosts of GreenPort Cruise & Congress\, the Port of Piraeus\, is the largest port in Greece and one of Europe’s largest ports. Situated close to international trade routes\, the port is a hub of international trade due to its status as the only European port in the East Mediterranean with the necessary infrastructure for the accommodation of transhipment cargo.
URL:https://connect2smallports.eu/event/greenport-cruise-congress/
LOCATION:Port of Piraeus
ATTACH;FMTTYPE=image/jpeg:https://connect2smallports.eu/wp-content/uploads/2021/05/piraeus.jpg
END:VEVENT
END:VCALENDAR